BEGIN:VCALENDAR
VERSION:2.0
PRODID:https://github.com/derhansen/sf_event_mgt
METHOD:PUBLISH
BEGIN:VEVENT
UID:1034-8647@www.hs-emden-leer.de
CLASS: PUBLIC
SUMMARY:Info-Veranstaltung (online) für Studieninteressierte für den berufs
 begleitenden Studiengang Soziale Arbeit (BASA-online)
DESCRIPTION:In dieser Info-Veranstaltung für Berufstätige in der Sozialen A
 rbeit, die sich im Rahmen des Studiums Soziale Arbeit (B.A.) qualifizieren 
 möchten, informieren wir über Zulassungsvoraussetzungen und den Studiengang
 .\n\nDie Veranstaltung findet online am 20.05.2026 um 19:00 Uhr statt. \n\n
 Nach der Anmeldung erhalten Sie einen Link via E-Mail.\n\nzur Anmeldung
LOCATION:Online
DTSTAMP:20260420T152759Z
DTSTART:20260520T170000Z
DTEND:20260520T183000Z
END:VEVENT
END:VCALENDAR
