BEGIN:VCALENDAR
VERSION:2.0
PRODID:https://github.com/derhansen/sf_event_mgt
METHOD:PUBLISH
BEGIN:VEVENT
UID:1032-8647@www.hs-emden-leer.de
CLASS: PUBLIC
SUMMARY:Info-Veranstaltung (online) für Arbeitgeber*innen zum berufsbegleit
 enden Bachelorstudiengang Sozialen Arbeit (BASA-online)
DESCRIPTION:In dieser Info-Veranstaltung für Arbeitgeber*innen von Studiere
 nden und Studieninteressierten im berufsbegleitenden Bachelorstudiengang So
 ziale Arbeit, informieren wir über folgende Themen:\n\nInhalte des Studiums
 Berufsbegleitend Studieren als Fort- und WeiterbildungsmaßnahmeErlangung de
 r staatlichen AnerkennungUnterstützungsmöglichkeiten durch Arbeitgeber \n\n
 Die Veranstaltung findet am 06.05.2025 um 15:00 Uhr online statt. \n\nNach 
 Ihrer Anmeldung erhalten Sie einen Link via E-Mail.\n\nzur Anmeldung
LOCATION:Online
DTSTAMP:20260420T151852Z
DTSTART:20260506T130000Z
DTEND:20260506T143000Z
END:VEVENT
END:VCALENDAR
