BEGIN:VCALENDAR
VERSION:2.0
PRODID:https://github.com/derhansen/sf_event_mgt
METHOD:PUBLISH
BEGIN:VEVENT
UID:405-5421@www.hs-emden-leer.de
CLASS: PUBLIC
SUMMARY:Individualisierung als gesellschaftliche Anforderung
DESCRIPTION:Prof. Dr. Sylke Bartmann zum Thema "Individualisierung als gese
 llschaftliche Anforderung" im Rahmen der Vorlesung Entwicklung und Sozialis
 ation.\n\nDie Veranstaltung ist für alle Interessierten ohne Anmeldung geöf
 fnet.\n\nEine Veranstaltung im Rahmen des GENDERmai 2022.
LOCATION:Campus Emden
DTSTAMP:20220414T073658Z
DTSTART:20220509T094500Z
DTEND:20220509T111500Z
END:VEVENT
END:VCALENDAR
