BEGIN:VCALENDAR
VERSION:2.0
PRODID:https://github.com/derhansen/sf_event_mgt
METHOD:PUBLISH
BEGIN:VEVENT
UID:371-6850@www.hs-emden-leer.de
CLASS: PUBLIC
SUMMARY:Im Gleichgewicht bleiben
DESCRIPTION:Lernt, wie ihr im Übergang von der Heimarbeit zur Rückkehr an d
 en Campus oder den Wechsel zwischen beidem euer Gleichgewicht bewahrt und g
 esunde Routinen sowie Grenzen zwischen Studien- und Privatleben beibehalten
  oder wiederherstellen könnt.\n\n\n\nAnmeldungen über den Moodlekursraum mö
 glich. 
LOCATION:Campus Emden
DTSTAMP:20220316T102729Z
DTSTART:20220412T150000Z
DTEND:20220412T170000Z
END:VEVENT
END:VCALENDAR
