BEGIN:VCALENDAR
VERSION:2.0
PRODID:https://github.com/derhansen/sf_event_mgt
METHOD:PUBLISH
BEGIN:VEVENT
UID:1026-5416@www.hs-emden-leer.de
CLASS: PUBLIC
SUMMARY:Hochschulinformationstag 2027
DESCRIPTION:Studienstart zum Sommersemester 2027 oder Wintersemester 2027/2
 028?Besuche unseren Hochschulinformationstag und hole dir alle wissenswerte
 n Informationen ein!
LOCATION:Campus Emden
DTSTAMP:20260312T083629Z
DTSTART:20270204T074500Z
DTEND:20270204T131500Z
END:VEVENT
END:VCALENDAR
