BEGIN:VCALENDAR
VERSION:2.0
PRODID:https://github.com/derhansen/sf_event_mgt
METHOD:PUBLISH
BEGIN:VEVENT
UID:513-5421@www.hs-emden-leer.de
CLASS: PUBLIC
SUMMARY:Herbstferienprogramm "Der Herbst ist da"
DESCRIPTION:Komme ohne oder mit Verkleidung zum ersten Eltern-Café in diese
 m Semester. Gemeinsam mit euren Eltern feiern wir den Abschluss der Herbstf
 erien und begrüßen die Herbstzeit.\n\nTreffpunkt: Paapsand\n\nAnmeldungen u
 nter familienservice@hs-emden-leer.de\n\n\n\n
LOCATION:Campus Emden
DTSTAMP:20221014T093146Z
DTSTART:20221028T130000Z
DTEND:20221028T150000Z
END:VEVENT
END:VCALENDAR
