BEGIN:VCALENDAR
VERSION:2.0
PRODID:https://github.com/derhansen/sf_event_mgt
METHOD:PUBLISH
BEGIN:VEVENT
UID:512-5421@www.hs-emden-leer.de
CLASS: PUBLIC
SUMMARY:Herbstferienprogramm "Der Herbst ist da"
DESCRIPTION:Wir basteln, backen und kochen rund um das Thema Halloween.\n\n
 Treffpunkt: Paapsand.\n\nAnmeldungen unter familienservice@hs-emden-leer.de
  
LOCATION:Campus Emden
DTSTAMP:20221014T093208Z
DTSTART:20221028T110000Z
DTEND:20221028T130000Z
END:VEVENT
END:VCALENDAR
