BEGIN:VCALENDAR
VERSION:2.0
PRODID:https://github.com/derhansen/sf_event_mgt
METHOD:PUBLISH
BEGIN:VEVENT
UID:299-5421@www.hs-emden-leer.de
CLASS: PUBLIC
SUMMARY:Geschlechtliche Vielfalt an der Hochschule – Erfahrungen, Herausfor
 derungen und Chancen
DESCRIPTION:In diesem Online Vortrag werden Begriffe, die oft in Zusammenha
 ng mit geschlechtlicher Vielfalt auftauchen, wie inter*, trans*, divers und
  abinär leicht verständlich erklärt. Welche Erfahrungen machen eigentlich t
 rans* und abinäre Personen im Kontext Hochschule? Was für Herausforderungen
  und Chancen ergeben sich durch geschlechtliche Vielfalt? Neben diesen Frag
 en, wird es im Vortrag auch darum gehen, welche strukturellen Bedingungen d
 ie Diskriminierung von trans* und abinären Studierenden verstärken oder abs
 chwächen und wie in persönlichen Begegnungen im Hochschulalltag ein selbstv
 erständlicher Umgang mit dem Thema geschlechtliche Vielfalt möglich ist.\n\
 nReferent*in: Né Fink, systemischer Berater und Trainer für geschlechtliche
  Vielfalt. Xe (Pronomen) hat zwei Jahre lang das Projekt „Unterstützung von
  trans* Studierenden“ an der Georg-August-Universität Göttingen koordiniert
 . Durch unzählige Beratungsgespräche mit Studierenden und Consultinggespräc
 hen mit Angestellten und Lehrenden der Universität hat xe Einblicke in die 
 Situation von vielen trans* und abinären Studierenden und Mitarbeiter*innen
 , sowie die alltäglichen Probleme in deren Alltag an der Hochschule bekomme
 n. Ehrenamtlich engagiert sich Né Fink in der Trans*- und Angehörigen-Berat
 ung.\n\nAnmeldung: gleichstellung@hs-emden-leer.de
LOCATION:Online
DTSTAMP:20211115T134836Z
DTSTART:20211129T173000Z
DTEND:20211129T190000Z
END:VEVENT
END:VCALENDAR
