BEGIN:VCALENDAR
VERSION:2.0
PRODID:https://github.com/derhansen/sf_event_mgt
METHOD:PUBLISH
BEGIN:VEVENT
UID:525-5421@www.hs-emden-leer.de
CLASS: PUBLIC
SUMMARY:Geschlechtliche Selbstbestimmung: wie, warum, für wen?
DESCRIPTION:Die Debatte um das geplante Selbstbestimmungsgesetz schlägt der
 zeit hohe Wellen. Die Bundesregierung will trans*, inter* und nonbinären Me
 nschen ermöglichen, über ihren Geschlechtseintrag selbst zu bestimmen. Rech
 tspopulist/innen und christliche Fundamentalist/innen laufen dagegen Sturm,
  aber auch manche Feministinnen zeigen sich äußerst skeptisch. Sozialverbän
 de und viele Organisationen von Frauen, Lesben, Schwulen, Bisexuellen, tran
 s* und inter* Personen hingegen unterstützen die Neuerung begeistert.\n\nWe
 lche Argumente, aber auch welche Falschinformationen stehen rund ums Selbst
 bestimmungsgesetz im Raum? Welche Aspekte sind Konsens, welche sind durch S
 tudien belegbar und was muss noch ausgehandelt werden? Und wie können queer
 e und feministische Bündnisse in dieser Sache aussehen?\n\nReferentin: Hann
 ah Engelmann-Gith ist ehrenamtliche Referentin des Bildungs- und Aktionsnet
 zwerks Wandel e.V. Als Promotionsstipendiatin der Rosa-Luxemburg-Stiftung f
 orscht sie zu anti-queerer Ideologie. \n\nAnmeldung an gleichstellung(at)hs
 -emden-leer.de
LOCATION:Online
DTSTAMP:20221111T105307Z
DTSTART:20221219T170000Z
DTEND:20221219T183000Z
END:VEVENT
END:VCALENDAR
