BEGIN:VCALENDAR
VERSION:2.0
PRODID:https://github.com/derhansen/sf_event_mgt
METHOD:PUBLISH
BEGIN:VEVENT
UID:413-5421@www.hs-emden-leer.de
CLASS: PUBLIC
SUMMARY:Gefangen im Netz
DESCRIPTION:Triggerwarnung: Sexuelle Gewalt an Kindern im Internet. Der Inh
 alt könnte verstörend oder retraumatisierend wirken. \n\n\n\nIn Deutschland
  werden pro Tag 9 Kinder Opfer sexueller Gewalt im Internet. In jeder Schul
 klasse sitzen aktuell 1-2 betroffene Kinder! Es ist höchste Zeit, präventiv
  tätig zu werden, über die Gefahren zu sprechen und unsere Kinder aufzuklär
 en. Wir müssen handeln! Und zwar jetzt!\n\n\n\nGemeinsam schauen wir den Fi
 lm „Gefangen im Netz“. Im Anschluss findet eine Gesprächsrunde statt. Der F
 ilm macht auf die genannte Problematik aufmerksam und Sensibilisiert. \n\nA
 nmeldung und weitere Informationen:\n\nKyra Buschak\n\nProjektkoordination 
 Familienservice\n\n+49 4921 807-1144\n\n kyra.buschak@hs-emden-leer.de\n\n\
 n\n
LOCATION:Campus Emden
DTSTAMP:20220429T113946Z
DTSTART:20220523T180000Z
DTEND:20220523T200000Z
END:VEVENT
END:VCALENDAR
