BEGIN:VCALENDAR
VERSION:2.0
PRODID:https://github.com/derhansen/sf_event_mgt
METHOD:PUBLISH
BEGIN:VEVENT
UID:310-5421@www.hs-emden-leer.de
CLASS: PUBLIC
SUMMARY:Online-Reihe: Das liebe Geld
DESCRIPTION:Zum Start in diesen Themenabend werfen wir einen sachlichen Bli
 ck auf die aktuelle finanzielle Situation von Frauen und welche Auswirkunge
 n unterbewusste Entscheidungen auf Rente & Co. haben können.  Anschließend 
 reflektieren wir in einer praktischen Übung die individuell wirkenden Glaub
 enssätze zum Thema Geld und erarbeiten erste konkrete Schritte, um Altersar
 mut entgegenzuwirken, die eigene finanzielle Lage in den Griff zu bekommen 
 oder noch zu verbessern.\n\nAnmeldungen bis zum 06.11.21 unter hannah.kabaj
 @hs-emden-leer.de\n\n\n\n
LOCATION:Online
DTSTAMP:20211018T112939Z
DTSTART:20211108T200000Z
DTEND:20211108T213000Z
END:VEVENT
END:VCALENDAR
