BEGIN:VCALENDAR
VERSION:2.0
PRODID:https://github.com/derhansen/sf_event_mgt
METHOD:PUBLISH
BEGIN:VEVENT
UID:1013-8984@www.hs-emden-leer.de
CLASS: PUBLIC
SUMMARY:Forschungsforum 2026
DESCRIPTION:Alle Infos rund um das Forschungsforum 2026 sowie die Möglichke
 it zu Anmeldung gibt es hier.
LOCATION:Campus Emden
DTSTAMP:20260220T102538Z
DTSTART:20260609T120000Z
DTEND:20260609T150000Z
END:VEVENT
END:VCALENDAR
