BEGIN:VCALENDAR
VERSION:2.0
PRODID:https://github.com/derhansen/sf_event_mgt
METHOD:PUBLISH
BEGIN:VEVENT
UID:408-5579@www.hs-emden-leer.de
CLASS: PUBLIC
SUMMARY:FORSCHUNGSFORUM 2022
DESCRIPTION:Herzlich Willkommen zum Forschungsforum der Hochschule Emden/Le
 er!\n\n- Forschen für die Zukunft - \n\n\n\nGern möchten wir Interessierten
  beim diesjährigen Forschungsforum an unserer Hochschule einen Einblick in 
 unsere aktuellen Forschungsthemen und -gebiete geben und darüber mit ihnen 
 in den Austausch kommen. Neugierige sind herzlich Willkommen, uns am 12. Ma
 i ab 16 Uhr im CORAM unserer Hochschule zu besuchen!\n\nFür eine bessere Pl
 anbarkeit des Forschungsforums würden wir uns freuen, wenn Sie die Möglichk
 eit zur Anmeldung über unser Formular nutzen - das ist natürlich bereits je
 tzt möglich!\n\n+++ Ab 14 Uhr wird im Rahmen des Forschungsforums bereits z
 um Format "Promotion persönlich" eingeladen, bei welchem sich alle Interess
 ierten über das Thema Promotion informieren können - nähere Infos finden Si
 e HIER. +++
LOCATION:Campus Emden
DTSTAMP:20220510T090623Z
DTSTART:20220512T140000Z
DTEND:20220512T163000Z
END:VEVENT
END:VCALENDAR
