BEGIN:VCALENDAR
VERSION:2.0
PRODID:https://github.com/derhansen/sf_event_mgt
METHOD:PUBLISH
BEGIN:VEVENT
UID:805-5573@www.hs-emden-leer.de
CLASS: PUBLIC
SUMMARY:Filmfest meets Campus
DESCRIPTION:Unter dem Motto „Filmfest meets Campus“ lädt die Hochschule Emd
 en/Leer für Dienstag, 11. Mai, im Rahmen des internationalen Filmfestes Emd
 en-Norderney ein. Neben Filmvorführungen, die auch durch Studierende des St
 udiengang Medientechnik betreut werden, wird zusätzlich ein kulinarisches R
 ahmenprogramm in sommerlicher Campusatmosphäre geboten.\n\nUm 16 Uhr starte
 t das Programm mit der Vorführung des Dokumentarfilms „Das Kombinat“ im Tec
 hnikum (Raum D13) der Abteilung Elektrotechnik und Informatik. Der Film erz
 ählt die Entstehungsgeschichte der größten Solidarischen Landwirtschaft Deu
 tschlands. Karten gibt es beim Filmfest-Team am Counter im Grand Café.\n\nU
 nter dem Motto „Shorts from India“ werden ab 18.30 Uhr drei indische Kurzfi
 lme mit englischen Untertiteln gezeigt. Unter freiem Himmel wird es auf ein
 er Großbildleinwand  an der Groten Gracht beim Coram der Hochschule eine Vi
 elzahl an Sitzgelegenheiten geben. Kissen können gerne mitgebracht werden. 
 Bereits ab 17:30 Uhr werden Studierende eine Einführung in das Programm geb
 en. Auch die internationalen Studierenden werden landestypische Beiträge zu
  diesem bunten Abend leisten. Die Projektgruppe der Medientechnik plant zud
 em eine Wasserinstallation und betreuen die technische Umsetzung der Verans
 taltung. Für die Gäste des Events gibt es außerdem Popcorn Getränke sowie i
 ndisches Streetfood. Der Eintritt ist frei.
LOCATION:Campus Emden
DTSTAMP:20240522T083709Z
DTSTART:20240611T153000Z
DTEND:20240611T190000Z
END:VEVENT
END:VCALENDAR
