BEGIN:VCALENDAR
VERSION:2.0
PRODID:https://github.com/derhansen/sf_event_mgt
METHOD:PUBLISH
BEGIN:VEVENT
UID:518-142@www.hs-emden-leer.de
CLASS: PUBLIC
SUMMARY:FH Net Online-Veranstaltung: Einstieg in Horizont Europa (HEU)
DESCRIPTION:Die FHnet-Veranstaltung Einstieg in Horizont Europa (HEU) richt
 et sich speziell an Forscher und Forscherinnen, die noch keine oder nur wen
 ig Erfahrungen mit der Antragstellung in Horizont Europa und der europäisch
 en Forschung haben. Vermittelt werden die Grundbegriffe und -prinzipien, Ke
 nntnisse über Struktur des Rahmenprogramms und ein Überblick über die Mögli
 chkeiten, sich zu beteiligen. Abgerundet wird die Agenda mit einem Überblic
 k zu den weiteren Informationsquellen.\n\n\n\nWann: Donnerstag 10. November
 , 12:30 – 14:00 Uhr Was: FHnet-Veranstaltung Einstieg in Horizont Europa (H
 EU) Wo: Online\n\n Die Anmeldung zur FHnet-Veranstaltung „Einstieg in Horiz
 ont Europa“ erfolgt per Mail über: fit-events@fit.fra-uas.de
DTSTAMP:20221104T095141Z
DTSTART:20221110T113000Z
DTEND:20221110T130000Z
END:VEVENT
END:VCALENDAR
