BEGIN:VCALENDAR
VERSION:2.0
PRODID:https://github.com/derhansen/sf_event_mgt
METHOD:PUBLISH
BEGIN:VEVENT
UID:276-5417@www.hs-emden-leer.de
CLASS: PUBLIC
SUMMARY:Feierabendmarkt am Campus Emden
DESCRIPTION:Nachhaltiger Feierabendmarkt (open-air) von 16 bis 19 Uhr auf d
 em Campus der Hochschule in Emden mit ökofairen und regionalen Lebensmittel
 n, guten Ideen für eine nachhaltige Zukunft, mit Streetfood, Kleider-, Haus
 rat- und Pflanzentausch und einem Repair Café on Tour.\n\nDie Veranstaltung
  wird unter Einhaltung der 3G-Regel des Landes Niedersachsen umgesetzt, bei
  nicht einzuhaltenden Abständen gilt die Maskenpflicht.
DTSTAMP:20210920T071856Z
DTSTART:20210929T140000Z
DTEND:20210929T170000Z
END:VEVENT
END:VCALENDAR
