BEGIN:VCALENDAR
VERSION:2.0
PRODID:https://github.com/derhansen/sf_event_mgt
METHOD:PUBLISH
BEGIN:VEVENT
UID:199-5421@www.hs-emden-leer.de
CLASS: PUBLIC
SUMMARY:Familie und Pflege vereinbaren - Wichtige Schritte zur wirksamen Hi
 lfe
DESCRIPTION:Im Vordergrund der Veranstaltung stehen die wichtigen Schritte 
 zur guten Vereinbarkeit von Beruf und Pflege. Vorgestellt werden folgende T
 hemen: Neue Aufgaben – neue Herausforderungen, das externe Hilfenetz, wie k
 ann ich mit der Nichtannahme von Hilfen umgehen? Sowie die möglichen Hilfen
  am Arbeitsplatz und das Pflegezeitgesetz. Zudem wird ein Blick auf die bes
 onderen Herausforderungen während der Pandemie geworfen.\n\nZur Person: Ste
 fanie Drozdzynski von ElderCare-Steinfeld ist examinierte Krankenschwester 
 und Diplom Pädagogin.
LOCATION:Online
DTSTAMP:20210422T043452Z
DTSTART:20210512T070000Z
DTEND:20210512T081500Z
END:VEVENT
END:VCALENDAR
