BEGIN:VCALENDAR
VERSION:2.0
PRODID:https://github.com/derhansen/sf_event_mgt
METHOD:PUBLISH
BEGIN:VEVENT
UID:196-5421@www.hs-emden-leer.de
CLASS: PUBLIC
SUMMARY:Erste-Hilfe-Kurs am Kind
DESCRIPTION:Im Erste-Hilfe-Kurs am Kind beschäftigen wir uns im Wesentliche
 n mit Verbrennungen/Verbrühungen, Insektenstichen, Verschlucken und auch Ve
 rletzungen wie Brüche, Schnittverletzungen und Schürfwunden. Zudem nehmen w
 ir uns die Zeit, Ihre Fragen zu beantworten.\n\nZur Person: Nadine Kodera i
 st 35 Jahre jung. Sie ist verheiratet und hat zwei Kinder (10 und 8 Jahre).
  Die gelernte Arzthelferin bezeichnet ihre Tätigkeit als Berufung. Der RKSH
  ist seit über 35 Jahren in Emden ansässig. Er übernimmt den Rettungsdienst
  und die Krankentransporte. Zusätzlich übernimmt der RKSH Sanitätsdienste, 
 Arbeiten für den Katastrophenschutz, ein Menü- Service sowie den Haus-Notru
 f-Dienst.
LOCATION:Online
DTSTAMP:20210422T043629Z
DTSTART:20210511T080000Z
DTEND:20210511T093000Z
END:VEVENT
END:VCALENDAR
