BEGIN:VCALENDAR
VERSION:2.0
PRODID:https://github.com/derhansen/sf_event_mgt
METHOD:PUBLISH
BEGIN:VEVENT
UID:142-5429@www.hs-emden-leer.de
CLASS: PUBLIC
SUMMARY:Erfolgsfaktoren für Lehren und Lernen/Ergebnisse der Lernforschung
DESCRIPTION:Eine Veranstaltung der Zukunkftswerkstatt Hochschule Emden/Leer
 \n\nReferent*innen:\n\nDr. Antonia Scholkmann, Universität Aalborg\n\nDr. D
 aniel Hunold, motiviert-studiert\n\nDr. Ivo van den Berk, Hamburg zusammen 
 mit Prof. Dr. Michael Herschelmann, Hochschule Emden/Leer
DTSTAMP:20210311T141022Z
DTSTART:20210527T140000Z
DTEND:20210527T170000Z
END:VEVENT
END:VCALENDAR
