BEGIN:VCALENDAR
VERSION:2.0
PRODID:https://github.com/derhansen/sf_event_mgt
METHOD:PUBLISH
BEGIN:VEVENT
UID:394-5429@www.hs-emden-leer.de
CLASS: PUBLIC
SUMMARY:Entwicklung von mRNA-basierten Arzneimitteln
DESCRIPTION:
DTSTAMP:20220407T150659Z
DTSTART:20220411T150000Z
DTEND:20220411T170000Z
END:VEVENT
END:VCALENDAR
