BEGIN:VCALENDAR
VERSION:2.0
PRODID:https://github.com/derhansen/sf_event_mgt
METHOD:PUBLISH
BEGIN:VEVENT
UID:301-5421@www.hs-emden-leer.de
CLASS: PUBLIC
SUMMARY:Empowerment-Workshop für queere Studierende
DESCRIPTION:Empowerment bedeutet, uns persönlich und gemeinschaftlich in un
 serer Selbstbestimmung zu bestärken. Oft sind wir als queere Personen in Al
 ltagssituationen, in denen wir mit unseren Lebensrealitäten ignoriert, weni
 ger ernst genommen oder gekränkt werden. Wir stehen deshalb an der Hochschu
 le, auf der Arbeit oder im privaten Umfeld häufig vor der Entscheidung, ob 
 wir uns überhaupt als bi, lesbisch, trans*, schwul, kinky, pan o.ä. outen w
 ollen. Unsere Erfahrungen mit Geschlecht, Sexualität oder Beziehungsform we
 rden im Alltag leider noch immer verbesondert, nicht verstanden oder unsich
 tbar gemacht. Das birgt besondere Herausforderungen und kann uns unterschie
 dliche Hürden im Alltag in den Weg stellen, die es zu meistern gilt.\n\nIm 
 Workshop tauschen wir uns über queere Alltagserfahrungen im Hochschulkontex
 t (z.B. Unsichtbarkeit, unangemessene Fragen, Starren, Toilettensituation e
 tc.) aus. Dann werden wir gemeinsam Umgangsstrategien für solche Situatione
 n entwickeln. Wir arbeiten dafür praktisch mit verschiedenen Methoden. Der 
 Rahmen des Workshops ist vertraulich.\n\nWorkshopleitung: Né Fink, systemis
 cher Berater und Trainer für geschlechtliche Vielfalt. Xe (Pronomen) hat zw
 ei Jahre lang das Projekt „Unterstützung von trans* Studierenden“ an der Ge
 org-August-Universität Göttingen koordiniert. Durch unzählige Beratungsgesp
 räche mit Studierenden und Consultinggesprächen mit Angestellten und Lehren
 den der Universität hat xe Einblicke in die Situation von vielen trans* und
  abinären Studierenden und Mitarbeiter*innen, sowie die alltäglichen Proble
 me in deren Alltag an der Hochschule bekommen. Ehrenamtlich engagiert sich 
 Né Fink in der Trans*- und Angehörigen-Beratung. Né bezeichnet sich selbst 
 als queer und hat Erfahrungen mit unterschiedlichen queeren Zuschreibungen 
 gemacht (u.a. trans*, schwul, pan).\n\nAnmeldung: gleichstellung@hs-emden-l
 eer.de
LOCATION:Online
DTSTAMP:20211018T113304Z
DTSTART:20211203T140000Z
DTEND:20211203T180000Z
END:VEVENT
END:VCALENDAR
