BEGIN:VCALENDAR
VERSION:2.0
PRODID:https://github.com/derhansen/sf_event_mgt
METHOD:PUBLISH
BEGIN:VEVENT
UID:304-5417@www.hs-emden-leer.de
CLASS: PUBLIC
SUMMARY:Emder Vortrag: Nachhaltigkeit - Imperativ der heranwachsenden Gener
 ation!
DESCRIPTION:Emder Vorträge – eine Veranstaltungsreihe für Bürgerinnen und B
 ürger\n\nZusätzlich werden im Rahmen dieser Veranstaltung erstmalig die Nac
 hhaltigkeitszertifikate für Schülerinnen & Schüler verliehen, sowie die umg
 esetzten Projekte ausgestellt.\n\nAblauf:\n\n17:30 Uhr » Empfang\n\n18:00 U
 hr » Begrüßung durch Hochschulpräsident Prof. Dr. Gerhard Kreutz\n\n18:15 U
 hr » Vortrag Ernst Ulrich von Weizsäcker\n\n19:00 Uhr » Diskussion\n\n19:30
  Uhr » Verleihung der Interdisziplinären Nachhaltigkeitszertifikate\n\n20:0
 0 Uhr » Offener Austausch\n\n\n\nDer Eintritt zu den Veranstaltungen ist ko
 stenlos. Bitte beachten Sie die 3-G-Regelung vor Ort! Es wird um Anmeldung 
 unter emdervortraege@hs-emden-leer.de gebeten.\n\nWeitere Informationen zum
  Vortrag und dem Referenten Ernst Ulrich von Weizsäcker finden Sie hier.
DTSTAMP:20211102T071932Z
DTSTART:20211103T173000Z
DTEND:20211103T203000Z
END:VEVENT
END:VCALENDAR
