BEGIN:VCALENDAR
VERSION:2.0
PRODID:https://github.com/derhansen/sf_event_mgt
METHOD:PUBLISH
BEGIN:VEVENT
UID:313-5421@www.hs-emden-leer.de
CLASS: PUBLIC
SUMMARY:Eltern-Café: Halloween-Party
DESCRIPTION:Wir feiern Halloween!\n\nDas Elterncafé richtet sich an Studier
 ende, Beschäftigte und PRofessor*innen mit Kindern. Es findet zweimal im Se
 mester statt. Für alle ELtern bleibt bei Kaffee und einer Kleinigkeit zum E
 ssen Zeit für nette Gespräche. Alle Kinder sind eingeladen mit uns gruselig
 e Masken zu basteln, T-shirts zu bemalen, lustige Spiele zu spielen und noc
 h mehr. Natürlich alles unter dem Motto "Halloween". Lasst euch überraschen
 !\n\nAufgrund der derzeitigen Situation und beschränkten Raumbelegung bitte
 n wir um Voranmeldung mit Personenanzahl. Vor unserem Eltern-Café findet au
 fgrund der Herbstferien bereits ab 08:00 Uhr eine Kinderbetreuung statt.\n\
 n\n\nFragenund Anmeldung unter:\n\nTelefon 04921 807-114\n\nfamilienservice
 @hs-emden-leer.de\n\n\n\n
LOCATION:Campus Emden
DTSTAMP:20211018T113102Z
DTSTART:20211029T153000Z
DTEND:20211029T173000Z
END:VEVENT
END:VCALENDAR
