BEGIN:VCALENDAR
VERSION:2.0
PRODID:https://github.com/derhansen/sf_event_mgt
METHOD:PUBLISH
BEGIN:VEVENT
UID:290-6312@www.hs-emden-leer.de
CLASS: PUBLIC
SUMMARY:Discovering Design Thinking in a Sprint
DESCRIPTION:Have you heard about Design Thinking (DT) but still not sure wh
 at it is? Come and join us for this introductory workshop on the problem-so
 lving approach of Design Thinking (DT). In an experiential learning event, 
 participants will experience first-hand each of the phases of the DT proces
 s and some of its most fundamental mindsets, skillsets and toolsets.  This 
 is part one of the five-part workshop series we are doing together with stu
 dents from Gronigen.\n\nClick here for registration
DTSTAMP:20211001T103939Z
DTSTART:20211014T130000Z
DTEND:20211014T150000Z
END:VEVENT
END:VCALENDAR
