BEGIN:VCALENDAR
VERSION:2.0
PRODID:https://github.com/derhansen/sf_event_mgt
METHOD:PUBLISH
BEGIN:VEVENT
UID:270-5419@www.hs-emden-leer.de
CLASS: PUBLIC
SUMMARY:Digitales Selbstmarketing für Beruf und Karriere (LinkedIn, Xing & 
 Co.)
DESCRIPTION:Gerade gegen Ende des Studiums - kurz vor Eintritt ins Berufsle
 ben als Mitarbeiter oder Unternehmer - ist es wichtig sich auch im Digitale
 n Raum professionell sichtbar zu machen. Durch gute Online-Profile zeigt ma
 n Kompetenzen und Fähigkeiten, der Aufbau eines berufliches Netzwerkes unte
 rstützt Ihre Karriere in den kommenden spannenden Jahren.\n\nIm Workshop ze
 igt der Social Media Berater Holger Ahrens aus Hamburg wie man sein Profil 
 optimal füllt und durch Interaktion und Networking den Grundstein für seine
  berufliche Entwicklung legt.\n\nInhalte des interaktiven Online-Workshops:
 \n\n 	Impuls: Karriere-Boost im Digitalen 	Demo: professionelle Profile in 
 LinkedIn, XING und Co. aus der Praxis 	Austausch: Fragen der Teilnehmer 	Sp
 eedTuning: individuelle Optimierungs-Tipps live \n\nBitte beachten: der Wor
 kshop findet auf Deutsch statt, es wird die Teilnahme am Computer mit einem
  Desktop-Browser wie Firefox oder Google Chrome empfohlen.
LOCATION:Online
DTSTAMP:20210804T074544Z
DTSTART:20211130T130000Z
DTEND:20211130T150000Z
END:VEVENT
END:VCALENDAR
