BEGIN:VCALENDAR
VERSION:2.0
PRODID:https://github.com/derhansen/sf_event_mgt
METHOD:PUBLISH
BEGIN:VEVENT
UID:347-5414@www.hs-emden-leer.de
CLASS: PUBLIC
SUMMARY:Digitale Infoverstaltung: Studienstart zum Sommersemester 2022?
DESCRIPTION:Die Zentrale Studienberatung plant für den 28.02.2022 um 15 Uhr
  eine Digitale Informationsveranstaltung unter dem Motto „Studienstart zum 
 Sommersemester 2022?  LAST CALL: Alle Informationen für Spätentschlossene“.
 \n\nFür nicht zulassungsbeschränkte Bachelorstudiengänge kannst du dich noc
 h bis zum 15.03.2022 bewerben. Ganz wichtig: Wir starten zum Sommersemester
  2022 wieder mit der Präsenzlehre!
LOCATION:Online
DTSTAMP:20220223T064029Z
DTSTART:20220228T150000Z
DTEND:20220228T160000Z
END:VEVENT
END:VCALENDAR
