BEGIN:VCALENDAR
VERSION:2.0
PRODID:https://github.com/derhansen/sf_event_mgt
METHOD:PUBLISH
BEGIN:VEVENT
UID:397-5421@www.hs-emden-leer.de
CLASS: PUBLIC
SUMMARY:Digital Female Leadership
DESCRIPTION:Janina Mütze ist Gründerin und CEO von Civey, dem Vorreiter für
  digitale Markt- und Meinungsforschung in Echtzeit. In ihren vielfältigen F
 unktionen – Aufsichtsrätin und ehemaliges Vorstandsmitglied beim Bundesverb
 and Deutscher Startups e.V. – zählt sie zu einer der „30 unter 30“ des Forb
 es-Magazins in der Kategorie Technologie. Aktuell ist Janina Mütze nominier
 t für den Digital Female Leader Award, der Gründerinnen und Gestalterinnen 
 in Unternehmen, Politik und Gesellschaft auszeichnet, welche die Digitale T
 ransformation vorantreiben und prägen.\n\nDie Veranstaltung ist für alle In
 teressierten ohne Anmeldung geöffnet.\n\nZugangsdaten zum Besuch von Janina
  Mütze an der Hochschule Emden/Leer: https://us02web.zoom.us/j/84960157923\
 n\n 	Meeting-ID: 849 6015 7923  	Kenncode: 2J109p \n\nDies ist eine Veranst
 altung im Rahmen des GENDERmai 2022. Organisation: Prof. Dr. Ute Rademacher
LOCATION:Online
DTSTAMP:20220525T042316Z
DTSTART:20220504T080000Z
DTEND:20220504T083000Z
END:VEVENT
END:VCALENDAR
