BEGIN:VCALENDAR
VERSION:2.0
PRODID:https://github.com/derhansen/sf_event_mgt
METHOD:PUBLISH
BEGIN:VEVENT
UID:198-5421@www.hs-emden-leer.de
CLASS: PUBLIC
SUMMARY:Dein Familienleben? Läuft! Außer planmäßig. Ich habe nämlich ein be
 sonderes Kind...
DESCRIPTION:„Sie lebt nach ihren Regeln. Moral? Kennt sie nicht. Sie bringt
  einem bei, viele angeblich so wichtige Dinge des Lebens nicht so wichtig z
 u nehmen. Genau genommen ist sie Anarchistin. Sie ist meine Tochter. Und ic
 h liebe sie über alles.“ Doro May liest aus ihren Büchern zu ihrer besonder
 en Tochter über ihr Leben, das alles ist - außer planmäßig!\n\nZur Person: 
 Doro May wurde in Essen geboren, studierte Germanistik, Musik und Erziehung
 swissenschaften. Sie lebt als freie Autorin in Aachen. Tina ist die zweite 
 von drei Töchtern.
LOCATION:Online
DTSTAMP:20210422T043532Z
DTSTART:20210511T153000Z
DTEND:20210511T163000Z
END:VEVENT
END:VCALENDAR
