BEGIN:VCALENDAR
VERSION:2.0
PRODID:https://github.com/derhansen/sf_event_mgt
METHOD:PUBLISH
BEGIN:VEVENT
UID:460-7323@www.hs-emden-leer.de
CLASS: PUBLIC
SUMMARY:Campuslive in Leer
DESCRIPTION:Lernt den Maritimen Campus in Leer (MCL), bei DJ-Klängen und ei
 nem entspannten Grillabend kennen.
LOCATION:Maritimer Campus Leer
DTSTAMP:20220802T111926Z
DTSTART:20220504T150000Z
DTEND:20220504T190000Z
END:VEVENT
END:VCALENDAR
