BEGIN:VCALENDAR
VERSION:2.0
PRODID:https://github.com/derhansen/sf_event_mgt
METHOD:PUBLISH
BEGIN:VEVENT
UID:391-6588@www.hs-emden-leer.de
CLASS: PUBLIC
SUMMARY:Campuslive "am Container" - Outdoor-Activity
DESCRIPTION:Komm vorbei und genieße in sportlicher Atmosphäre, vielfältigst
 e outdoor Aktivitäten. Gerne könnt ihr auch einfach ein paar Getränke schlü
 rfen und mit Freunden einen guten Abend haben. Alles kann, nichts muss!
LOCATION:Campus Emden
DTSTAMP:20220406T103037Z
DTSTART:20220525T150000Z
DTEND:20220525T190000Z
END:VEVENT
END:VCALENDAR
