BEGIN:VCALENDAR
VERSION:2.0
PRODID:https://github.com/derhansen/sf_event_mgt
METHOD:PUBLISH
BEGIN:VEVENT
UID:430-7172@www.hs-emden-leer.de
CLASS: PUBLIC
SUMMARY:Campuslive "am Container" - Karaokeparty
DESCRIPTION:Ein Spass sowohl für Singende als auch für Zuhörende. Nach dem 
 Motto: „The Stage is yours“ bieten wir euch eine Bühne um vielleicht eure G
 esangskarriere zu starten.
LOCATION:Campus Emden
DTSTAMP:20220506T070349Z
DTSTART:20220427T150000Z
DTEND:20220427T190000Z
END:VEVENT
END:VCALENDAR
