BEGIN:VCALENDAR
VERSION:2.0
PRODID:https://github.com/derhansen/sf_event_mgt
METHOD:PUBLISH
BEGIN:VEVENT
UID:268-5419@www.hs-emden-leer.de
CLASS: PUBLIC
SUMMARY:Business Knigge - "Gute Umgangsformen erleichtern den Berufseinstie
 g"
DESCRIPTION: Achtung! Dieser Workshop besteht aus zwei Terminen - Die Anmel
 dung gilt für beide Termine, bitte sicherstellen ob auch an beiden Terminen
  eine Teilnahme erfolgen kann!\n\nDas Seminar wird in deutscher Sprache dur
 chgeführt. Gute Umgangsformen sind Ihr persönliches Marketing. Ein respektv
 oller und freundlicher Umgang ist ebenso für die Karriere förderlich wie er
  zu einer guten Atmosphäre beiträgt.\n\n 	Welche beruflichen Regeln gelten?
   	Wie meistern Sie unerwartete Situationen im Berufsleben? 	Wie gewinnen S
 ie Sicherheit im Umgang mit Geschäftspartnern?  \n\nSie erhalten wertvolle 
 Tipps von Kniggetrainerin Ilona Kühnel: \n\n 	Der erste Eindruck ist entsch
 eidend  	Business-Kleidung  	Umgang mit Vorgesetzten und Kollegen  	Small T
 alk – das kleine Gespräch mit großer Wirkung  	Visitenkarten-Knigge  	Nutzu
 ng der Medien  \n\nEin wichtiger Gesprächstermin – Motivation & professione
 lles Verhalten Erfolgreich ist, wer sich mit Business-Knigge auskennt.\n\nD
 er Termin wird, wenn es die aktuelle Situation zulässt, in Präsenz stattfin
 den. Informationen dazu erhalten Sie rechtzeitig vor Workshopbeginn.
LOCATION:Online
DTSTAMP:20210804T074449Z
DTSTART:20211119T123000Z
DTEND:20211119T143000Z
END:VEVENT
END:VCALENDAR
