BEGIN:VCALENDAR
VERSION:2.0
PRODID:https://github.com/derhansen/sf_event_mgt
METHOD:PUBLISH
BEGIN:VEVENT
UID:269-5419@www.hs-emden-leer.de
CLASS: PUBLIC
SUMMARY:Business Knigge - "Gute Umgangsformen erleichtern den Berufseinstie
 g"
DESCRIPTION:Achtung! Dieser Workshop besteht aus zwei Terminen - Die Anmeld
 ung gilt für beide Termine, bitte sicherstellen ob auch an beiden Terminen 
 eine Teilnahme erfolgen kann!\n\nDas Seminar wird in deutscher Sprache durc
 hgeführt. Gute Umgangsformen sind Ihr persönliches Marketing. Ein respektvo
 ller und freundlicher Umgang ist ebenso für die Karriere förderlich wie er 
 zu einer guten Atmosphäre beiträgt.\n\n 	Welche beruflichen Regeln gelten? 
  	Wie meistern Sie unerwartete Situationen im Berufsleben? 	Wie gewinnen Si
 e Sicherheit im Umgang mit Geschäftspartnern?  \n\nSie erhalten wertvolle T
 ipps von Kniggetrainerin Ilona Kühnel: \n\n 	Der erste Eindruck ist entsche
 idend  	Business-Kleidung  	Umgang mit Vorgesetzten und Kollegen  	Small Ta
 lk – das kleine Gespräch mit großer Wirkung  	Visitenkarten-Knigge  	Nutzun
 g der Medien  \n\nEin wichtiger Gesprächstermin – Motivation & professionel
 les Verhalten Erfolgreich ist, wer sich mit Business-Knigge auskennt.\n\nDe
 r Termin wird, wenn es die aktuelle Situation zulässt, in Präsenz stattfind
 en. Informationen dazu erhalten Sie rechtzeitig vor Workshopbeginn.
LOCATION:Online
DTSTAMP:20210804T074519Z
DTSTART:20211126T123000Z
DTEND:20211126T143000Z
END:VEVENT
END:VCALENDAR
