BEGIN:VCALENDAR
VERSION:2.0
PRODID:https://github.com/derhansen/sf_event_mgt
METHOD:PUBLISH
BEGIN:VEVENT
UID:361-5419@www.hs-emden-leer.de
CLASS: PUBLIC
SUMMARY:Business Knigge - "Die ersten 15 Minuten des Vorstellungsgesprächs"
DESCRIPTION:Sie erhalten wertvolle Tipps von Kniggetrainerin Ilona Kühnel u
 nd haben Gelegenheit, Ihr Auftreten zu üben und zu optimieren (Online: Kame
 ra ist wichtig).\n\n 	Gut vorbereitet ins Vorstellungsgespräch 	Der erste E
 indruck ist entscheidend 	Ein gepflegtes Erscheinungsbild 	Grüßen und sich 
 vorstellen 	Small Talk – das kleine Gespräch mit großer Wirkung 	Verabschie
 dung \n\nEin respektvoller und freundlicher Umgang ist ebenso für die Karri
 ere förderlich wie er zu einer guten Atmosphäre beiträgt.\n\n 	Wie gewinnen
  Sie Sicherheit im Umgang mit Gesprächspartnern? 	Welche beruflichen Regeln
  gelten? 	Wie meistern Sie unerwartete Situationen im Gespräch? \n\nErfolgr
 eich ist, wer sich mit Business-Knigge auskennt.
LOCATION:Online
DTSTAMP:20220425T062527Z
DTSTART:20220426T120000Z
DTEND:20220426T133000Z
END:VEVENT
END:VCALENDAR
