BEGIN:VCALENDAR
VERSION:2.0
PRODID:https://github.com/derhansen/sf_event_mgt
METHOD:PUBLISH
BEGIN:VEVENT
UID:99-5568@www.hs-emden-leer.de
CLASS: PUBLIC
SUMMARY:Blutspendetermin
DESCRIPTION:Der jährliche Blutspendetermin findet am 09. März, in der Zeit 
 von 10:00-15:00 Uhr im Coram statt.\n\n\n\nWer gesund und fit ist, kann Blu
 t spenden.\n\nAuch und besonders in diesen Zeiten benötigen die Blutspended
 ienste dringend Blutspenden, damit die Patienten weiterhin sicher mit Blutp
 räparaten in Therapie und Notfallversorgung behandelt werden können.\n\n\n\
 nDas DRK und die Hochschule Emden/Leer verfolgen dabei ein striktes Hygiene
 konzept. \n\nWeitere Informationen zu Blutspendeterminen sind auf der Homep
 age des Deutschen Roten Kreutzes zu finden. \n\n\n\n
LOCATION:Campus Emden
DTSTAMP:20211104T114324Z
DTSTART:20220309T100000Z
DTEND:20220309T130000Z
END:VEVENT
END:VCALENDAR
