BEGIN:VCALENDAR
VERSION:2.0
PRODID:https://github.com/derhansen/sf_event_mgt
METHOD:PUBLISH
BEGIN:VEVENT
UID:267-5419@www.hs-emden-leer.de
CLASS: PUBLIC
SUMMARY:Bewerben 4.0 - Online-Bewerbungsportale und Online-Profile richtig 
 nutzen
DESCRIPTION:Der Kurs findet in drei Phasen statt\n\n 	Vorbereitungsphase un
 d Voraussetzung zur Teilnahme: Material und Aufgaben zur Vorbereitung im du
 rch Trainerin moderierten moodle-Kursraum, ca. 2 Stunden Zeitaufwand, zeitl
 ich individuell nutzbar 	09.11.2021 von 14:00 bis 18:00 Uhr  Online-Präsenz
 -Workshop via Zoom: gemeinsame Online-Präsenz mit interaktiven Lernsituatio
 nen 	Transferphase:  Feedback auf Unterlagen in moodle, Bewerbungsprofile u
 sw, ca. 2 Stunden Zeitaufwand, zeitlich individuell nutzbar \n\nTipps und T
 ricks für\n\n 	Grundlagen der Personalauswahlverfahren für die Online-Bewer
 bung 	erfolgreiche Verwendung von Online-Auswahl- und Vorauswahl-Tools 	Dok
 umente in Online-Systemen (Lebenslauf, Bewerbungsschreiben, Textfelder) 	we
 itere online Tools (z. B. virtuelles Assessment, zeitversetztes Interview u
 sw.) \n\nSie gewinnen Sicherheit für Bewerbungen mit Online-Bewerbungstools
 , in dem Sie die grundsätzlichen Funktionen der Software, welche eingesetzt
  wird, kennen (bis hin zu zeitversetzten Video-Interviews). Sie können ihre
  online-Profile (z.B. Xing, LinkedIn usw. in Bezug auf Keywords optimieren.
  Sie können die sprachliche Gestaltung der Bewerbungsunterlagen optimieren 
 um Recruitingalgorithmen gezielt anzusprechen. Da der Kurs über Moodle und 
 Zoom läuft, besteht auch die Möglichkeit, sich über technische und inhaltli
 che Gegebenheiten zu informieren und auszutauschen.\n\nUm teilnehmen zu kön
 nen, benötigen die Sie einen Laptop oder Computer mit Audio/Video-Funktion 
 (Mikrofon und Kamera). Außerdem benötigen sie eine stabile Internetverbindu
 ng. Sie erhalten rechtzeitig einen individuellen Login-Code für den moodle-
 Kursraum zum Workshop.\n\n\n\n
LOCATION:Online
DTSTAMP:20210804T074407Z
DTSTART:20211109T130000Z
DTEND:20211109T173000Z
END:VEVENT
END:VCALENDAR
