BEGIN:VCALENDAR
VERSION:2.0
PRODID:https://github.com/derhansen/sf_event_mgt
METHOD:PUBLISH
BEGIN:VEVENT
UID:608-5412@www.hs-emden-leer.de
CLASS: PUBLIC
SUMMARY:Armut, Flucht und Migration
DESCRIPTION:Prof. Dr. Gerhard Trabert\n\nZum Referenten: Gerhard Trabert is
 t Professor für Sozialmedizin und Sozialpsychiatrie (HS RheinMain, Wiesbade
 n). Er war u.a. europäischer Delegierter der Nationalen Armutskonferenz, In
 itiator der Arbeitsgruppe „Armut und Gesundheit“ im Bundesgesundheitsminist
 erium und Kandidat für das Amt des Bundespräsidenten.\n\nEr war im Ausland 
 u.a. zur Unterstützung von Gesundheitseinrichtungen in Nordsyrien/Rojava-Re
 gion, bei Seenotrettung im Mittelmeer (u.a. Sea-Watch) und in Flüchtlingsla
 gern in Griechenland (u.a. Lesbos). Und er hat zahlreiche Fachartikel und F
 achbücher u.a. zum Thema Armut und Gesundheit veröffentlicht.\n\nDie Teilna
 hme am Vortrag ist kostenfrei.
DTSTAMP:20230315T062409Z
DTSTART:20230406T120000Z
DTEND:20230406T150000Z
END:VEVENT
END:VCALENDAR
