BEGIN:VCALENDAR
VERSION:2.0
PRODID:https://github.com/derhansen/sf_event_mgt
METHOD:PUBLISH
BEGIN:VEVENT
UID:399-5421@www.hs-emden-leer.de
CLASS: PUBLIC
SUMMARY:Arbeit mit gewalttätigen / grenzverletzenden Jungen und Männern
DESCRIPTION:Öffentlicher Gastvortrag von Andre Woest (Dipl.-Päd., Gestaltth
 erapeut und Gewaltberater bei IFI – Initiative für Intensivpädagogik gGmbH)
  im Rahmen der Vorlesung „Methodisches Handeln in der Sozialen Arbeit“ von 
 Prof. Dr. Michael Herschelmann.\n\nDie Veranstaltung ist für alle Interessi
 erten ohne Anmeldung geöffnet.\n\nDies ist eine Veranstaltung im Rahmen des
  GENDERmai 2022.
LOCATION:Campus Emden
DTSTAMP:20220412T123913Z
DTSTART:20220517T094500Z
DTEND:20220517T111500Z
END:VEVENT
END:VCALENDAR
