BEGIN:VCALENDAR
VERSION:2.0
PRODID:https://github.com/derhansen/sf_event_mgt
METHOD:PUBLISH
BEGIN:VEVENT
UID:495-5421@www.hs-emden-leer.de
CLASS: PUBLIC
SUMMARY:Als Frau in Männerrunden argumentieren und bestehen
DESCRIPTION:An den zwei Workshop-Vormittagen werden folgende Inhalte behand
 elt:\n\n 	Macht & Kraft der Körpersprache 	Kommunikatives Statusverhalten: 
 Wie agiere ich im Hoch- und Tiefstatus? 	Machtspiele durchschauen und abweh
 ren 	Rhetorisch durchsetzen vor Publikum \n\nNeben theoretischem Input wird
  das Gehörte in praktischen Übungen, z.B. durch humorvolle Rollenspiele, An
 alysen von Fallbeispielen und „elevator pitches“ erprobt. Der Workshop wird
  von der Referentin Stephanie Trapp durchgeführt.\n\nDer Workshop baut aufe
 inander auf, eine Teilnahme an beiden Tagen ist wünschenswert.\n\nDie Plätz
 e sind begrenzt. Anmeldungen bitte bis zum 10.11.2022 an hannah.kabaj@hs-em
 den-leer.de
LOCATION:Campus Emden
DTSTAMP:20221005T055446Z
DTSTART:20221122T083000Z
DTEND:20221122T123000Z
END:VEVENT
END:VCALENDAR
