BEGIN:VCALENDAR
VERSION:2.0
PRODID:https://github.com/derhansen/sf_event_mgt
METHOD:PUBLISH
BEGIN:VEVENT
UID:496-5421@www.hs-emden-leer.de
CLASS: PUBLIC
SUMMARY:Als Frau in Männerrunden argumentieren und bestehen
DESCRIPTION:\n\nAn den zwei Workshop-Vormittagen werden folgende Inhalte be
 handelt:\n\n 	Macht & Kraft der Körpersprache 	Kommunikatives Statusverhalt
 en: Wie agiere ich im Hoch- und Tiefstatus? 	Machtspiele durchschauen und a
 bwehren 	Rhetorisch durchsetzen vor Publikum \n\nNeben theoretischem Input 
 wird das Gehörte in praktischen Übungen, z.B. durch humorvolle Rollenspiele
 , Analysen von Fallbeispielen und „elevator pitches“ erprobt. Der Workshop 
 wird von der Referentin Stephanie Trapp durchgeführt.\n\nDer Workshop baut 
 aufeinander auf, eine Teilnahme an beiden Tagen ist wünschenswert.\n\nDie P
 lätze sind begrenzt. Anmeldungen bitte bis zum 10.11.2022 an hannah.kabaj@h
 s-emden-leer.de\n\n\n\n
LOCATION:Campus Emden
DTSTAMP:20221005T055420Z
DTSTART:20221124T083000Z
DTEND:20221124T123000Z
END:VEVENT
END:VCALENDAR
