BEGIN:VCALENDAR
VERSION:2.0
PRODID:https://github.com/derhansen/sf_event_mgt
METHOD:PUBLISH
BEGIN:VEVENT
UID:348-5414@www.hs-emden-leer.de
CLASS: PUBLIC
SUMMARY:Aktionstag Studienorientierung: Niedersächsische Hochschulen berate
 n zur Studienwahl
DESCRIPTION:So viele Fragen – wir haben Antworten! \n\nWer sich an einer de
 r niedersächsischen Hochschulen einschreiben will, hat die Wahl zwischen üb
 er 1.500 zum Teil einzigartigen Studiengängen. Da kann die Entscheidung sch
 on schwerfallen! Am Donnerstag, 31. März 2022, bietet die Koordinierungsste
 lle für Studieninformation und -beratung in Niedersachsen (kfsn) mit den 15
  Zentralen Studienberatungsstellen (ZSBn) der niedersächsischen Hochschulen
  daher einen „Aktionstag Studienberatung“ an. Auch die Hochschule Emden/Lee
 r ist mit einem Beratungsangebot dabei. Unsere Expert*innen beraten dich on
 line und live in allen Fragen des Studiums.
LOCATION:Online
DTSTAMP:20220223T063956Z
DTSTART:20220331T130000Z
DTEND:20220331T170000Z
END:VEVENT
END:VCALENDAR
