BEGIN:VCALENDAR
VERSION:2.0
PRODID:https://github.com/derhansen/sf_event_mgt
METHOD:PUBLISH
BEGIN:VEVENT
UID:1027-5416@www.hs-emden-leer.de
CLASS: PUBLIC
SUMMARY:AHOI_MINT Tag in Leer
DESCRIPTION:Ziel der Veranstaltung ist es, Kinder und Jugendliche – insbeso
 ndere im Alter von 8 bis 16 Jahren – für Mathematik, Informatik, Naturwisse
 nschaften und Technik zu begeistern. An interaktiven Ständen in den Räumlic
 hkeiten der Hochschule am Maritimen Campus sowie im BIZ in Leer sollen die 
 Besucherinnen und Besucher selbst ausprobieren, experimentieren und praxisn
 ahe Einblicke in verschiedene Forschungsbereiche und Anwendungen erhalten. 
 \n\nDer Tag wird lebendig, vielfältig und praxisnah - Ob Experiment, Techni
 k zum Anfassen, Workshop-Format oder praktische Demonstration - sei dabei!\
 n\nEingeladen sind MINT Interessierte, Familien und gerne auch Schulklassen
 . 
LOCATION:Maritimer Campus Leer
DTSTAMP:20260312T084820Z
DTSTART:20260911T070000Z
DTEND:20260911T150000Z
END:VEVENT
END:VCALENDAR
