BEGIN:VCALENDAR
VERSION:2.0
PRODID:https://github.com/derhansen/sf_event_mgt
METHOD:PUBLISH
BEGIN:VEVENT
UID:419-5421@www.hs-emden-leer.de
CLASS: PUBLIC
SUMMARY:Zukunftswerkstatt
DESCRIPTION:Du bist Studierende*r mit Kind(ern) und studierst hier an der H
 ochschule Emden/Leer Soziale Arbeit? Dann bist du in unserer Zukunftswerkst
 att genau richtig!\n\n\n\nWir sind Studenten im vierten Semester der Sozial
 en Arbeit. In unserer Zukunftswerkstatt im Modul Forschung soll es um die H
 erausforderungen und besonderen Bedürfnisse der Studierenden mit Kind(ern) 
 gehen. Wir wollen für euch und kommende Student*innen in Kooperation mit de
 m Familienservice der Hochschule Emden/Leer bessere Rahmenbedingungen schaf
 fen. Dafür brauchen wir deine Unterstützung!\n\n\n\nDie Zukunftswerkstatt i
 st in drei Einheiten aufgeteilt: Die Kritikphase, die Phantasiephase und di
 e Realisierungsphase. Jede dieser Einheiten soll ca. 2 Stunden in Anspruch 
 nehmen.\n\nÜber eine rege Beteiligung würden wir uns sehr freuen. Eine Teil
 nahme ist auch möglich, wenn du nicht an jedem Termin dabei sein kannst ode
 r etwas später dazu stößt bzw. früher gehen musst. Eine Kinderbetreuung kan
 n bei Bedarf organisiert werden.\n\n\n\nInformation und Anmeldung\n\n\n\nRu
 dolf Meyer\n\nStudent Soziale Arbeit\n\n>> rudolf.meyer@stud.hs-emden-leer.
 de
LOCATION:Campus Emden
DTSTAMP:20220429T113842Z
DTSTART:20220517T120000Z
DTEND:20220517T140000Z
END:VEVENT
END:VCALENDAR
