BEGIN:VCALENDAR
VERSION:2.0
PRODID:https://github.com/derhansen/sf_event_mgt
METHOD:PUBLISH
BEGIN:VEVENT
UID:400-5421@www.hs-emden-leer.de
CLASS: PUBLIC
SUMMARY:Woher kommen Unterschiede?
DESCRIPTION:Prof. Dr. Sylke Bartmann zum Thema "Woher kommen Unterschiede?"
  im Rahmen der Vorlesung Soziologie.\n\nDie Veranstaltung ist für alle Inte
 ressierten ohne Anmeldung geöffnet.\n\nEine Veranstaltung im Rahmen des GEN
 DERmai 2022.
LOCATION:Campus Emden
DTSTAMP:20220412T123935Z
DTSTART:20220509T080000Z
DTEND:20220509T093000Z
END:VEVENT
END:VCALENDAR
