BEGIN:VCALENDAR
VERSION:2.0
PRODID:https://github.com/derhansen/sf_event_mgt
METHOD:PUBLISH
BEGIN:VEVENT
UID:515-5421@www.hs-emden-leer.de
CLASS: PUBLIC
SUMMARY:„Wissenschaftliche Poster erstellen für Frauen“
DESCRIPTION:Eine Anmeldung ist nicht erforderlich. Bei der Einwahl bitte de
 n Klarnamen (vollständiger Vor- und Nachname) angeben.\n\nDie Veranstaltung
  wird von den Projekten „fem:talent-Stipendium“ (Monika Batke) und „Förderu
 ng & Gewinnung von wissenschaftlichem Spitzenpersonal“ (Hannah Kabaj) organ
 isiert und durchgeführt. Bei Fragen steht Monika Batke (monika.batke@hs-emd
 en-leer.de) gern zur Verfügung. Inhaltlich werden wir von Hannah Stalleicke
 n unterstützt.\n\n\n\n
LOCATION:Online
DTSTAMP:20221102T115028Z
DTSTART:20221117T180000Z
DTEND:20221117T193000Z
END:VEVENT
END:VCALENDAR
