BEGIN:VCALENDAR
VERSION:2.0
PRODID:https://github.com/derhansen/sf_event_mgt
METHOD:PUBLISH
BEGIN:VEVENT
UID:424-5417@www.hs-emden-leer.de
CLASS: PUBLIC
SUMMARY:Vortragsreihe "Anders Wirtschaften" - Anders Wirtschaften mit dem S
 tartup kompackt61, Wiesmoor
DESCRIPTION:Anders Wirtschaften mit dem Startup kompackt61, Wiesmoor\n\nDie
  junge Unternehmerin Alexandra Kletzsch wird zum Thema „Grüne Pioniere - En
 trepreneurship mit Geschäftsideen im Bereich der Nachhaltigkeit“ sprechen, 
 Link: https://bbb.hs-emden-leer.de/b/ger-6hs-vez-f9y\n\nDiskussion im Ansch
 luss\n\n\n\nDie Veranstaltungen können im Rahmen des Professionalisierungsp
 rogramms „Interdisziplinäres Nachhaltigkeitszertifikat“ besucht werden in K
 omponente 4 – Umsetzungsbeispiele von Nachhaltigkeit.
DTSTAMP:20220506T110656Z
DTSTART:20220512T150000Z
DTEND:20220512T163000Z
END:VEVENT
END:VCALENDAR
