BEGIN:VCALENDAR
VERSION:2.0
PRODID:https://github.com/derhansen/sf_event_mgt
METHOD:PUBLISH
BEGIN:VEVENT
UID:417-5421@www.hs-emden-leer.de
CLASS: PUBLIC
SUMMARY:Vorsorgevollmacht und Patientenverfügung
DESCRIPTION:Wie kann ich in „gesunden Zeiten“ für die Zukunft vorsorgen und
  festlegen, von wem und wie meine Angelegenheiten im Bedarfsfall geregelt w
 erden sollen.  Die Betreuungsstelle vom Fachdienst Gesundheit der Stadt Emd
 en informiert.\n\n\n\nZur Person: Anja Buß und Bernhard Schröder von der Be
 treuungsstelle Emden beraten und unterstützen rund um die Thematik der rech
 tlichen Betreuung. Ebenfalls zu ihren Aufgaben gehört die Informationsvermi
 ttlung zur Vorsorgevollmacht und Patientenverfügung\n\n\n\nAnmeldung und we
 itere Informationen:\n\n\n\nKyra Buschak\n\nProjektkoordination Familienser
 vice\n\n+49 4921 807-1144\n\n kyra.buschak@hs-emden-leer.de\n\n\n\n
LOCATION:Campus Emden
DTSTAMP:20220429T113802Z
DTSTART:20220525T070000Z
DTEND:20220525T083000Z
END:VEVENT
END:VCALENDAR
