BEGIN:VCALENDAR
VERSION:2.0
PRODID:https://github.com/derhansen/sf_event_mgt
METHOD:PUBLISH
BEGIN:VEVENT
UID:415-5421@www.hs-emden-leer.de
CLASS: PUBLIC
SUMMARY:Väter und Vereinbarkeit
DESCRIPTION:Wie gelingt anderen Vätern die Balance zwischen Familie und Ber
 uf/Studium/Wissenschaft? Wie kann ich Zeit für mich gewinnen, besser Stress
  abbauen oder effizienter arbeiten?\n\nDer zweistündige Kompaktworkshop bie
 tet hierzu Austausch und hilfreiche Lösungsansätze.\n\n\n\nZur Person: Nils
  Seiler ist Vater und Dozent für Elternthemen aus Berlin.\n\n\n\nAnmeldung 
 und weitere Informationen:\n\n\n\nKyra Buschak\n\nProjektkoordination Famil
 ienservice\n\n+49 4921 807-1144\n\nkyra.buschak@hs-emden-leer.de\n\n\n\n
LOCATION:Online
DTSTAMP:20220429T114030Z
DTSTART:20220524T100000Z
DTEND:20220524T120000Z
END:VEVENT
END:VCALENDAR
