BEGIN:VCALENDAR
VERSION:2.0
PRODID:https://github.com/derhansen/sf_event_mgt
METHOD:PUBLISH
BEGIN:VEVENT
UID:401-5421@www.hs-emden-leer.de
CLASS: PUBLIC
SUMMARY:„Syrien: Rojava stellt Frauen gleich“
DESCRIPTION:Veranstaltung mit Dr. Mechthild Exo\n\nWir schauen gemeinsam di
 e ARTE Reportage „Syrien: Rojava stellt Frauen gleich“, informieren und dis
 kutieren über das an Geschlechterbefreiung, Ökologie und Basisdemokratie or
 ientierte Gesellschaftsmodell in Rojava (Selbstverwaltungsregion Nord- und 
 Ostsyrien), über die an der Rojava Universität gelehrte Frauenwissenschaft 
 Jineolojî sowie über Konflikte z.B. mit häuslicher Gewalt und Parallelen wi
 e auch Unterschiede im Umgang damit.\n\nDie Veranstaltung ist für alle Inte
 ressierten geöffnet nach vorheriger Anmeldung an mechthild.exo[at]hs-emden-
 leer.de.\n\nDies ist eine Veranstaltung im Rahmen des GENDERmai 2022.
LOCATION:Campus Emden
DTSTAMP:20220414T073630Z
DTSTART:20220510T094500Z
DTEND:20220510T111500Z
END:VEVENT
END:VCALENDAR
