BEGIN:VCALENDAR
VERSION:2.0
PRODID:https://github.com/derhansen/sf_event_mgt
METHOD:PUBLISH
BEGIN:VEVENT
UID:473-5419@www.hs-emden-leer.de
CLASS: PUBLIC
SUMMARY:Stellensuche 4.0 – strategische Wege zum Job
DESCRIPTION:Neben sehr vielen Stellenportalen gibt es Recrutingevents, Mögl
 ichkeiten zum Active Sourcing (Sichtbarkeit in Netzwerken, um gefunden zu w
 erden), Chatbots auf den Karriereportalen von Unternehmen usw. Bei allen Re
 cherchen ist es notwendig, das eigene Profil zu kennen und benennen zu könn
 en, um möglichst passgenau auf Anforderungen zu reagieren.\n\nInhalte und T
 hemen des Vortrags: - Analyse und Systematik der Recherche in Jobbörsen und
  Jobsuchmaschinen - kurze Vorstellung von zwei Tools (©beruf&leben) zur Pro
 filarbeit und zur passgenauen Analyse von Stellenanzeigen\n\n Voraussetzung
 en auf Teilnehmendenseite sind: stabiles Internet - und ein Laptop oder PC 
 mit funktionierender Audio/Videofunktion
DTSTAMP:20220825T064054Z
DTSTART:20221115T133000Z
DTEND:20221115T153000Z
END:VEVENT
END:VCALENDAR
